BEGIN:VCALENDAR
VERSION:2.0
PRODID:-//Karneval Verband Niedersachsen - ECPv6.15.20//NONSGML v1.0//EN
CALSCALE:GREGORIAN
METHOD:PUBLISH
X-WR-CALNAME:Karneval Verband Niedersachsen
X-ORIGINAL-URL:https://www.karneval-nds.de
X-WR-CALDESC:Veranstaltungen für Karneval Verband Niedersachsen
REFRESH-INTERVAL;VALUE=DURATION:PT1H
X-Robots-Tag:noindex
X-PUBLISHED-TTL:PT1H
BEGIN:VTIMEZONE
TZID:Europe/Berlin
BEGIN:DAYLIGHT
TZOFFSETFROM:+0100
TZOFFSETTO:+0200
TZNAME:CEST
DTSTART:20250330T010000
END:DAYLIGHT
BEGIN:STANDARD
TZOFFSETFROM:+0200
TZOFFSETTO:+0100
TZNAME:CET
DTSTART:20251026T010000
END:STANDARD
BEGIN:DAYLIGHT
TZOFFSETFROM:+0100
TZOFFSETTO:+0200
TZNAME:CEST
DTSTART:20260329T010000
END:DAYLIGHT
BEGIN:STANDARD
TZOFFSETFROM:+0200
TZOFFSETTO:+0100
TZNAME:CET
DTSTART:20261025T010000
END:STANDARD
BEGIN:DAYLIGHT
TZOFFSETFROM:+0100
TZOFFSETTO:+0200
TZNAME:CEST
DTSTART:20270328T010000
END:DAYLIGHT
BEGIN:STANDARD
TZOFFSETFROM:+0200
TZOFFSETTO:+0100
TZNAME:CET
DTSTART:20271031T010000
END:STANDARD
END:VTIMEZONE
BEGIN:VEVENT
DTSTART;VALUE=DATE:20260514
DTEND;VALUE=DATE:20260518
DTSTAMP:20260419T150342
CREATED:20260125T210406Z
LAST-MODIFIED:20260125T211217Z
UID:10896-1778716800-1779062399@www.karneval-nds.de
SUMMARY:27. Himmelfahrtsfreizeit der Narrenjugend in Otterndorf
DESCRIPTION:Die Anmeldeunterlagen sowie weitere Informationen findet ihr unter folgendem Link: https://www.karneval-nds.de/einladung-verbands-jugendzeltlager-otterndorf-2026/ \nteilen teilen merken teilen drucken E-Mail 
URL:https://www.karneval-nds.de/event/27-himmelfahrtsfreizeit-der-narrenjugend-in-otterndorf/
LOCATION:Zeltlager Otterndorf\, Hannoverscher Weg 6\, Otterndorf\, Niedersachsen\, 21762\, Deutschland
CATEGORIES:Verbandstermine
END:VEVENT
END:VCALENDAR